BEGIN:VCALENDAR
VERSION:2.0
PRODID:-//ChamberMaster//Event Calendar 2.0//EN
METHOD:PUBLISH
X-PUBLISHED-TTL:P3D
REFRESH-INTERVAL:P3D
CALSCALE:GREGORIAN
BEGIN:VEVENT
DTSTART:20250809T120000Z
DTEND:20250809T200000Z
X-MICROSOFT-CDO-ALLDAYEVENT:FALSE
SUMMARY:17th Annual Ride to the Barns
DESCRIPTION:Please join us for the 2025 Ride to the Barns - a benefit for farmland conservation in Lake Country!\n\nThere are three different routes to choose: 30\, 45 and 60 miles - with rest stops featuring local farms where only locally-sourced food is served! After the ride\, join us for our post-ride party featuring live music\, local beer\, and a full buffet lunch!
X-ALT-DESC;FMTTYPE=text/html:<p style="text-align:center"><strong>Please join us for the 2025 Ride to the Barns - a benefit for farmland conservation in Lake Country!</strong></p>\n\n<p><span style="color:rgb(0\, 0\, 0)">There are three different routes to choose: 30\, 45 and 60 miles - with rest stops featuring local farms where only locally-sourced food is served! After the ride\, join us for our post-ride party featuring live music\, local beer\, and a full buffet lunch!</span></p>\n
LOCATION:Camp Quad 6886 Hwy. Q town of Erin\, Wisconsin
UID:e.3562.5513
SEQUENCE:3
DTSTAMP:20260422T012934Z
URL:https://business.oconomowoc.org/events/details/17th-annual-ride-to-the-barns-5513
END:VEVENT

END:VCALENDAR
