BEGIN:VCALENDAR
VERSION:2.0
PRODID:-//ChamberMaster//Event Calendar 2.0//EN
METHOD:PUBLISH
X-PUBLISHED-TTL:P3D
REFRESH-INTERVAL:P3D
CALSCALE:GREGORIAN
BEGIN:VEVENT
DTSTART:20220514T140000Z
DTEND:20220514T190000Z
X-MICROSOFT-CDO-ALLDAYEVENT:FALSE
SUMMARY:9th Annual Okauchee Regional Antique/Classic Boat & Motor Meet
DESCRIPTION:Bring boats & motors to show\, sell & trade. Large Pavilion & Restrooms on site. Lunch will be available from the Okauchee Lions Club. Hosted by the Midwest Chapter & Motorheads Open to the public!
X-ALT-DESC;FMTTYPE=text/html:Bring boats &amp\; motors to show\, sell &amp\; trade. Large Pavilion &amp\; Restrooms on site. Lunch will be available from the Okauchee Lions Club. Hosted by the Midwest Chapter &amp\; Motorheads Open to the public!
LOCATION:Okauchee Lions Park N49W34400 E Wisconsin Ave\, Okauchee\, WI 53069
UID:e.3562.2355
SEQUENCE:3
DTSTAMP:20260419T184524Z
URL:https://business.oconomowoc.org/events/details/9th-annual-okauchee-regional-antique-classic-boat-motor-meet-2355
END:VEVENT

END:VCALENDAR
