BEGIN:VCALENDAR
VERSION:2.0
PRODID:-//ChamberMaster//Event Calendar 2.0//EN
METHOD:PUBLISH
X-PUBLISHED-TTL:P3D
REFRESH-INTERVAL:P3D
CALSCALE:GREGORIAN
BEGIN:VEVENT
DTSTART:20220601T180000Z
DTEND:20220601T193000Z
X-MICROSOFT-CDO-ALLDAYEVENT:FALSE
SUMMARY:Acrylic Chain Pull Flowers Class
DESCRIPTION:Making an acrylic flower painting is fun and easy with this chain pull technique. Anyone can do it! Create a wonderful 9x12 or 12x12 fine artwork to brighten your home.
X-ALT-DESC;FMTTYPE=text/html:Making an acrylic flower painting is fun and easy with this chain pull technique. Anyone can do it! Create a wonderful 9x12 or 12x12 fine artwork to brighten your home.
LOCATION:Carol Ann's Gracerie - 3rd Floor Art Studio 521 S Westover St. Oconomowoc\, WI 53066 One block south of Summit Ave. next to Westover Park
UID:e.3562.2365
SEQUENCE:3
DTSTAMP:20260419T213557Z
URL:https://business.oconomowoc.org/events/details/acrylic-chain-pull-flowers-class-2365
END:VEVENT

END:VCALENDAR
