BEGIN:VCALENDAR
VERSION:2.0
PRODID:-//ChamberMaster//Event Calendar 2.0//EN
METHOD:PUBLISH
X-PUBLISHED-TTL:P3D
REFRESH-INTERVAL:P3D
CALSCALE:GREGORIAN
BEGIN:VEVENT
DTSTART:20251115T010000Z
DTEND:20251115T030000Z
X-MICROSOFT-CDO-ALLDAYEVENT:FALSE
SUMMARY:Adults Only Open Gym Game Night
DESCRIPTION:Want to go back to gym class for a night? Join us at Old School 1913 in Nashotah for an ADULTS ONLY (no kids allowed!) open gym. Volleyball\, basketball\, or dodgeball\, the group will decide! PLUS non-physical-activity games available in the cafeteria (cards\, carnival style games\, giant connect-4\, giant jenga\, etc)\n\nAges 21+ are welcome to join!
X-ALT-DESC;FMTTYPE=text/html:<div>Want to go back to gym class for a night? Join us at Old School 1913 in Nashotah for an ADULTS ONLY (no kids allowed!) open gym. Volleyball\, basketball\, or dodgeball\, the group will decide! PLUS non-physical-activity games available in the cafeteria (cards\, carnival style games\, giant connect-4\, giant jenga\, etc)</div>\n\n<div>Ages 21+ are welcome to join!</div>\n
LOCATION:W329N4476 Lakeland Drive Nashotah\, WI 53058
UID:e.3562.6590
SEQUENCE:3
DTSTAMP:20260421T210138Z
URL:https://business.oconomowoc.org/events/details/adults-only-open-gym-game-night-6590
END:VEVENT

END:VCALENDAR
