BEGIN:VCALENDAR
VERSION:2.0
PRODID:-//ChamberMaster//Event Calendar 2.0//EN
METHOD:PUBLISH
X-PUBLISHED-TTL:P3D
REFRESH-INTERVAL:P3D
CALSCALE:GREGORIAN
BEGIN:VEVENT
DTSTART:20251028T230000Z
DTEND:20251029T000000Z
X-MICROSOFT-CDO-ALLDAYEVENT:FALSE
SUMMARY:Artifact Analysis: From Centennial to Sesquicentennial
DESCRIPTION:Discover 50 years of Oconomowoc history through a fascinating selection of artifacts\, framed by the city's milestone centennial and sesquicentennial celebrations. After the presentation\, explore our museum-wide exhibit\, "The History of Oconomowoc in 150 Objects."
X-ALT-DESC;FMTTYPE=text/html:Discover 50 years of Oconomowoc history through a fascinating selection of artifacts\, framed by the city&rsquo\;s milestone centennial and sesquicentennial celebrations. After the presentation\, explore our museum-wide exhibit\, &quot\;The History of Oconomowoc in 150 Objects.&quot\;
LOCATION:Oconomowoc Area Historical Society & Museum 103 W Jefferson St Oconomowoc\, WI 53066
UID:e.3562.6533
SEQUENCE:3
DTSTAMP:20260421T223258Z
URL:https://business.oconomowoc.org/events/details/artifact-analysis-from-centennial-to-sesquicentennial-6533
END:VEVENT

END:VCALENDAR
