BEGIN:VCALENDAR
VERSION:2.0
PRODID:-//ChamberMaster//Event Calendar 2.0//EN
METHOD:PUBLISH
X-PUBLISHED-TTL:P3D
REFRESH-INTERVAL:P3D
CALSCALE:GREGORIAN
BEGIN:VEVENT
DTSTART:20250930T230000Z
DTEND:20251001T000000Z
X-MICROSOFT-CDO-ALLDAYEVENT:FALSE
SUMMARY:Artifact Analysis: Mid-Century Oconomowoc
DESCRIPTION:See what America's "boom years" were like in Oconomowoc through a variety of artifacts ranging from WWII to the 1970s. After the presentation\, explore our museum-wide exhibit\, "The History of Oconomowoc in 150 Objects." This program is open to the public and is a part of our year-long celebration of Oconomowoc's sesquicentennial anniversary.
X-ALT-DESC;FMTTYPE=text/html:See what America&rsquo\;s &ldquo\;boom years&rdquo\; were like in Oconomowoc through a variety of artifacts ranging from WWII to the 1970s. After the presentation\, explore our museum-wide exhibit\, &quot\;The History of Oconomowoc in 150 Objects.&quot\; This program is open to the public and is a part of our year-long celebration of Oconomowoc&#39\;s sesquicentennial anniversary.
LOCATION:Oconomowoc Historical Society & Museum 103 W Jefferson St Oconomowoc\, WI 53066
UID:e.3562.6516
SEQUENCE:3
DTSTAMP:20260422T000516Z
URL:https://business.oconomowoc.org/events/details/artifact-analysis-mid-century-oconomowoc-6516
END:VEVENT

END:VCALENDAR
