BEGIN:VCALENDAR
VERSION:2.0
PRODID:-//ChamberMaster//Event Calendar 2.0//EN
METHOD:PUBLISH
X-PUBLISHED-TTL:P3D
REFRESH-INTERVAL:P3D
CALSCALE:GREGORIAN
BEGIN:VEVENT
DTSTART;VALUE=DATE:20220611
DTEND;VALUE=DATE:20220612
TRANSP:TRANSPARENT
X-MICROSOFT-CDO-ALLDAYEVENT:TRUE
SUMMARY:Bank Five Nine Annual Shred Day
DESCRIPTION:Join us for our annual Shred Day and protect yourself from identity theft! Shredding will take place at our Oconomowoc Summit Branch on June 11th from 9-Noon. Bring your personal documents to be securely shredded and destroyed.
X-ALT-DESC;FMTTYPE=text/html:<span style="color:rgb(32\, 33\, 36)\; font-family:roboto\,arial\,sans-serif\; font-size:14px">Join us for our annual Shred Day and protect yourself from identity theft! Shredding will take place at our Oconomowoc Summit Branch on&nbsp\;</span><strong>June 11th from 9-Noon</strong><span style="color:rgb(32\, 33\, 36)\; font-family:roboto\,arial\,sans-serif\; font-size:14px">. Bring your personal documents to be securely shredded and destroyed.</span>
LOCATION:Oconomowoc Summit Branch
UID:e.3562.2019
SEQUENCE:3
DTSTAMP:20260419T214053Z
URL:https://business.oconomowoc.org/events/details/bank-five-nine-annual-shred-day-2019
END:VEVENT

END:VCALENDAR
