BEGIN:VCALENDAR
VERSION:2.0
PRODID:-//ChamberMaster//Event Calendar 2.0//EN
METHOD:PUBLISH
X-PUBLISHED-TTL:P3D
REFRESH-INTERVAL:P3D
CALSCALE:GREGORIAN
BEGIN:VEVENT
DTSTART:20251217T003000Z
DTEND:20251217T013000Z
X-MICROSOFT-CDO-ALLDAYEVENT:FALSE
SUMMARY:Blue Christmas
DESCRIPTION:Tuesday\, December 16 at 6:30PM\n\nThis is a service of worship and hope.
X-ALT-DESC;FMTTYPE=text/html:<h2>Tuesday\, December 16 at 6:30PM</h2>\n\n<p><em>This is a service of worship and hope.</em></p>\n
LOCATION:815 S Concord Road
UID:e.3562.6598
SEQUENCE:3
DTSTAMP:20260421T193232Z
URL:https://business.oconomowoc.org/events/details/blue-christmas-6598
END:VEVENT

END:VCALENDAR
