BEGIN:VCALENDAR
VERSION:2.0
PRODID:-//ChamberMaster//Event Calendar 2.0//EN
METHOD:PUBLISH
X-PUBLISHED-TTL:P3D
REFRESH-INTERVAL:P3D
CALSCALE:GREGORIAN
BEGIN:VEVENT
DTSTART:20220522T173000Z
DTEND:20220522T223000Z
X-MICROSOFT-CDO-ALLDAYEVENT:FALSE
SUMMARY:Brefinity Brewing Cribbage Tournament
DESCRIPTION:Brewfinity Brewing Cribbage Tournament\n\n\n\nWe will play a round robin Cribbage Tournament\n\n$20 Entry Fee (for each 2 person team)\n\nMaximum of 20 teams \n\n\n\nAll fees paid out in prize money (1st 50%\; 2nd 30%\; 3rd 20%)\n\n\n\nSee tournament rules here\n\nSign up here (use the Sign me up button)\, stop in the taproom to sign up or show up at noon the day of the event to register.
X-ALT-DESC;FMTTYPE=text/html:<span style="font-family:verdana"><span style="font-size:14px"><strong><span style="color:rgb(0\, 0\, 255)">Brewfinity Brewing Cribbage Tournament</span></strong></span><br />\n<br />\nWe will play a round robin Cribbage Tournament<br />\n$20 Entry Fee (for each 2 person team)<br />\nMaximum of 20 teams&nbsp\;</span><br />\n<br />\n<span style="font-family:verdana">All fees paid out in prize money (1st 50%\; 2nd 30%\; 3rd 20%)<br />\n<br />\nSee tournament rules&nbsp\;<a href="https://www.brewfinitybrewing.com/copy-of-events">here</a><br />\nSign up&nbsp\;<a href="https://www.brewfinitybrewing.com/">here</a>&nbsp\;(use the&nbsp\;<em><strong>Sign me up&nbsp\;</strong></em>button)\, stop in the taproom to sign up or show up at noon the day of the event to register.</span>
LOCATION:
UID:e.3562.1939
SEQUENCE:3
DTSTAMP:20260419T200659Z
URL:https://business.oconomowoc.org/events/details/brefinity-brewing-cribbage-tournament-02-06-2022-1939
END:VEVENT

END:VCALENDAR
