BEGIN:VCALENDAR
VERSION:2.0
PRODID:-//ChamberMaster//Event Calendar 2.0//EN
METHOD:PUBLISH
X-PUBLISHED-TTL:P3D
REFRESH-INTERVAL:P3D
CALSCALE:GREGORIAN
BEGIN:VEVENT
DTSTART:20220724T190000Z
DTEND:20220724T200000Z
X-MICROSOFT-CDO-ALLDAYEVENT:FALSE
SUMMARY:Brewfinity Brewery Tour
DESCRIPTION:Enjoy a Brewery Tour Sunday @ 2 PM\n\n$10/person - All beer is included for the duration of the tour
X-ALT-DESC;FMTTYPE=text/html:Enjoy a Brewery Tour Sunday @ 2 PM<br />\n$10/person - All beer is included for the duration of the tour
LOCATION:
UID:e.3562.2424
SEQUENCE:3
DTSTAMP:20260419T213924Z
URL:https://business.oconomowoc.org/events/details/brewfinity-brewery-tour-07-24-2022-2424
END:VEVENT

END:VCALENDAR
