BEGIN:VCALENDAR
VERSION:2.0
PRODID:-//ChamberMaster//Event Calendar 2.0//EN
METHOD:PUBLISH
X-PUBLISHED-TTL:P3D
REFRESH-INTERVAL:P3D
CALSCALE:GREGORIAN
BEGIN:VEVENT
DTSTART:20220416T210000Z
DTEND:20220416T220000Z
X-MICROSOFT-CDO-ALLDAYEVENT:FALSE
SUMMARY:Bridge Church Helicopter Candy Drop
DESCRIPTION:Helicopter Candy Drop is EXACTLY what it sounds like. We are gathering kids from our awesome Oconomowoc community at Champion Field to drop hundreds of pounds of candy onto the field. Then\, we will let the kids invade the field to scoop up all the candy they can handle! \n\nThere will be separate\, smaller section for kids aged 1-4. \n\n\n\nThis is part of our weekend of Easter celebration and just our way of telling the communities kids that we think they are pretty great.
X-ALT-DESC;FMTTYPE=text/html:Helicopter Candy Drop is EXACTLY what it sounds like. We are gathering kids from our awesome Oconomowoc community at Champion Field to drop hundreds of pounds of candy onto the field. Then\, we will let the kids invade the field to scoop up all the candy they can handle!&nbsp\;<br />\nThere will be separate\, smaller section for kids aged 1-4.&nbsp\;<br />\n<br />\nThis is part of our weekend of Easter celebration and just our way of telling the communities kids that we think they are pretty great.&nbsp\;
LOCATION:Champion Field Park 425 W. Jefferson St. Oconomowoc. WI 53066
UID:e.3562.2244
SEQUENCE:3
DTSTAMP:20260419T200535Z
URL:https://business.oconomowoc.org/events/details/bridge-church-helicopter-candy-drop-2244
END:VEVENT

END:VCALENDAR
