BEGIN:VCALENDAR
VERSION:2.0
PRODID:-//ChamberMaster//Event Calendar 2.0//EN
METHOD:PUBLISH
X-PUBLISHED-TTL:P3D
REFRESH-INTERVAL:P3D
CALSCALE:GREGORIAN
BEGIN:VEVENT
DTSTART:20220412T230000Z
DTEND:20220413T000000Z
X-MICROSOFT-CDO-ALLDAYEVENT:FALSE
SUMMARY:Building Your Investment Strategy
DESCRIPTION:In this free one-hour retirement workshop you'll learn:\n\n  How to put the history of bear markets in the proper perspective\n\n  How to recognize the investment risks that contribute to market declines\n\n  How to reduce volatility effects using asset allocation\n\n  Why diversifying your portfolio and time in the market   not market timing   count\n\n\n\nTo register please visit https://www.summitstreetwm.com/events.htm
X-ALT-DESC;FMTTYPE=text/html:<span style="font-family:proximanova\; font-size:16px">In this free one-hour retirement workshop you&rsquo\;ll learn:</span><br />\n<span style="font-family:proximanova\; font-size:16px">&bull\; How to put the history of bear markets in the proper perspective</span><br />\n<span style="font-family:proximanova\; font-size:16px">&bull\; How to recognize the investment risks that contribute to market declines</span><br />\n<span style="font-family:proximanova\; font-size:16px">&bull\; How to reduce volatility effects using asset allocation</span><br />\n<span style="font-family:proximanova\; font-size:16px">&bull\; Why diversifying your portfolio and time in the market &mdash\; not market timing &mdash\; count<br />\n<br />\nTo register please visit&nbsp\;</span><a href="https://www.summitstreetwm.com/events.htm">https://www.summitstreetwm.com/events.htm</a>
LOCATION:Join us either in person or virtually.
UID:e.3562.2232
SEQUENCE:3
DTSTAMP:20260419T213946Z
URL:https://business.oconomowoc.org/events/details/building-your-investment-strategy-2232
END:VEVENT

END:VCALENDAR
