BEGIN:VCALENDAR
VERSION:2.0
PRODID:-//ChamberMaster//Event Calendar 2.0//EN
METHOD:PUBLISH
X-PUBLISHED-TTL:P3D
REFRESH-INTERVAL:P3D
CALSCALE:GREGORIAN
BEGIN:VEVENT
DTSTART:20220316T213000Z
DTEND:20220316T230000Z
X-MICROSOFT-CDO-ALLDAYEVENT:FALSE
SUMMARY:Business After Hours
DESCRIPTION:Your Choice to Live\, Inc. invites you for an evening of networking\, refreshments and vaping/substance education. Are you familiar with carts? Dabs? Box mods? If you have young people in your life\, you should be. Come test your knowledge and see if you can identify the latest vaping devices or concealment items in a mock bedroom. Aside from teens\, substance use also affects the workplace. Drug abuse and addiction cost American companies $81 billion every year due to absenteeism\, accidents\, healthcare and lost productivity. The more you know as an employer\, the safer your workplace will be. \n\n\n\nPlan to attend this premiere networking event that gives you the opportunity to network with other business professionals\, and gather new contacts and resources for your business needs.\n\nMembers: FREE with Online Pre-registration\n\nNon-members\, $10\n\nREGISTRATIONS REQUIRED!
X-ALT-DESC;FMTTYPE=text/html:<p><span style="font-size:14px\;"><span style="font-family:verdana\;"><span style="background:#FEFEFE\;"><span style="color:black\;">Your Choice to Live\, Inc. invites you for an evening of networking\, refreshments and vaping/substance education. Are you familiar with carts? Dabs? Box mods? If you have young people in your life\, you should be. Come test your knowledge and see if you can identify the latest vaping devices or concealment items in a mock bedroom. Aside from teens\, substance use also affects the workplace. Drug abuse and addiction cost American companies $81 billion every year due to absenteeism\, accidents\, healthcare and lost productivity. The more you know as an employer\, the safer your workplace will be.&nbsp\;</span></span></span></span><br />\n<br />\n<span style="font-family:verdana\;"><span style="font-size:14px\;">Plan to attend this premiere networking event that gives you the opportunity to network with other business professionals\, and gather new contacts and resources for your business needs.</span></span></p>\n\n<p><span style="font-family:verdana\;"><span style="font-size:14px\;">Members: FREE with Online Pre-registration<br />\nNon-members\, $10</span></span></p>\n\n<p><span style="font-family:verdana\;"><span style="font-size:14px\;">REGISTRATIONS REQUIRED!</span></span></p>\n\n<p>&nbsp\;</p>\n
LOCATION:Your Choice to Live\, Inc. 440 S. Lapham St.
UID:e.3562.1959
SEQUENCE:3
DTSTAMP:20260419T231050Z
URL:https://business.oconomowoc.org/events/details/business-after-hours-1959
END:VEVENT

END:VCALENDAR
