BEGIN:VCALENDAR
VERSION:2.0
PRODID:-//ChamberMaster//Event Calendar 2.0//EN
METHOD:PUBLISH
X-PUBLISHED-TTL:P3D
REFRESH-INTERVAL:P3D
CALSCALE:GREGORIAN
BEGIN:VEVENT
DTSTART:20220915T213000Z
DTEND:20220915T230000Z
X-MICROSOFT-CDO-ALLDAYEVENT:FALSE
SUMMARY:Business After Hours
DESCRIPTION:Don Charpentier Agency - American Family Insurance will host our next business after hours at the Lake Country Dockhounds Stadium.  Food will be catered by Cornerstone Sports Pub & Eatery and door prizes provided by Lake Country Dockhounds.  There will also be behind the scenes tours of the field\, grounds\, and microbrewery of the Lake Country Dockhounds!\n\n\n\nGreat food!  Great prizes!  Great venue!  Come one   come all!\n\n\n\n\n\n\n\nPlan to attend this premiere networking event that gives you the opportunity to network with other business professionals\, and gather new contacts and resources for your business needs.\n\nMembers: FREE with Online Pre-registration\n\nNon-members\, $10\n\nREGISTRATIONS REQUIRED!
X-ALT-DESC;FMTTYPE=text/html:<p><span style="font-family:verdana\;"><span style="font-size:14px\;">Don Charpentier Agency - American Family Insurance will host our next business after hours at the <strong>Lake Country Dockhounds Stadium</strong>.&nbsp\; Food will be catered by Cornerstone Sports Pub &amp\; Eatery and door prizes provided by Lake Country Dockhounds.&nbsp\; There will also be&nbsp\;behind the scenes tours of the field\, grounds\, and microbrewery of the Lake Country Dockhounds!<br />\n<br />\n<strong>Great food!&nbsp\; Great prizes!&nbsp\; Great venue!&nbsp\; Come one &ndash\; come all!</strong></span></span><br />\n<br />\n<br />\n<br />\n<span style="font-family:verdana\;"><span style="font-size:14px\;">Plan to attend this premiere networking event that gives you the opportunity to network with other business professionals\, and gather new contacts and resources for your business needs.</span></span></p>\n\n<p><span style="font-family:verdana\;"><span style="font-size:14px\;">Members: FREE with Online Pre-registration<br />\nNon-members\, $10</span></span></p>\n\n<p><span style="font-family:verdana\;"><span style="font-size:14px\;">REGISTRATIONS REQUIRED!</span></span></p>\n\n<p>&nbsp\;</p>\n
LOCATION:Lake Country Dockhounds Stadium 1101 Blue Ribbon Circle N. Oconomowoc\, WI 53066
UID:e.3562.1973
SEQUENCE:3
DTSTAMP:20260419T184330Z
URL:https://business.oconomowoc.org/events/details/business-after-hours-1973
END:VEVENT

END:VCALENDAR
