BEGIN:VCALENDAR
VERSION:2.0
PRODID:-//ChamberMaster//Event Calendar 2.0//EN
METHOD:PUBLISH
X-PUBLISHED-TTL:P3D
REFRESH-INTERVAL:P3D
CALSCALE:GREGORIAN
BEGIN:VEVENT
DTSTART:20250917T220000Z
DTEND:20250918T000000Z
X-MICROSOFT-CDO-ALLDAYEVENT:FALSE
SUMMARY:Business After Hours with Lake Country Connections
DESCRIPTION:Oconomowoc Area Chamber of Commerce\, along with our neighboring chambers of Hartland\, Delafield\, Mukwonago\, and Pewaukee invite you to an exceptional networking event. Connect with area professionals\, share insights\, and enjoy an evening filled with camaraderie\, delicious food and drink.\n\nDon't miss out on this opportunity to connect with fellow professionals in a relaxed and enjoyable atmosphere!\n\nMembers: FREE with Online Pre-registration\n\nNon-members: $20\n\nREGISTRATION IS REQUIRED!
X-ALT-DESC;FMTTYPE=text/html:<p><span style="font-size:14px\;"><span style="font-family:verdana\;">Oconomowoc Area Chamber of Commerce\, along with our neighboring chambers of Hartland\, Delafield\, Mukwonago\, and Pewaukee&nbsp\;invite you to an exceptional networking event. Connect with area professionals\, share insights\, and enjoy an evening filled with camaraderie\, delicious food and drink.</span></span></p>\n\n<p><span style="font-size:14px\;"><span style="font-family:verdana\;"><span style="color: rgb(13\, 13\, 13)\; white-space-collapse: preserve\; background-color: rgb(255\, 255\, 255)\;">Don&#39\;t miss out on this opportunity to connect with fellow professionals in a relaxed and enjoyable atmosphere!</span></span></span></p>\n\n<p><span style="font-size:14px\;"><span style="font-family:verdana\;">Members: FREE with Online Pre-registration<br />\nNon-members:&nbsp\;$20</span></span></p>\n\n<p><span style="font-size:14px\;"><span style="font-family:verdana\;">REGISTRATION IS REQUIRED!</span></span><br />\n&nbsp\;</p>\n\n<p>&nbsp\;</p>\n
LOCATION:Rustic Manor 1848 3115 WI-83 Hartland\, WI 53029
UID:e.3562.5800
SEQUENCE:3
DTSTAMP:20260422T001001Z
URL:https://business.oconomowoc.org/events/details/business-after-hours-with-lake-country-connections-5800
END:VEVENT

END:VCALENDAR
