BEGIN:VCALENDAR
VERSION:2.0
PRODID:-//ChamberMaster//Event Calendar 2.0//EN
METHOD:PUBLISH
X-PUBLISHED-TTL:P3D
REFRESH-INTERVAL:P3D
CALSCALE:GREGORIAN
BEGIN:VEVENT
DTSTART:20220421T130000Z
DTEND:20220421T150000Z
X-MICROSOFT-CDO-ALLDAYEVENT:FALSE
SUMMARY:Business Registration - Job Expo
DESCRIPTION:The Oconomowoc Area Chamber of Commerce Job Expo provides the opportunity for job seekers\, high school students\, and local businesses to connect.\n\n \n\nFor employers\, it provides a unique chance to promote your business and open positions to those who are actively seeking work\, and to help students explore careers and educational pathways.\n\n\n\nFor students and job seekers\, it is an opportunity to learn about the many great companies in the Oconomowoc area.\n\n\n	High school students can use this as a resource to learn more about careers in various industries and to explore job openings in the area\, whether you are looking for a part-time position or want to launch right into your career. \n	For job seekers of any age\, it presents the ability to conveniently meet with representatives from many employers in a single day. \n\n\n\n\nIf you have any questions\, please contact chamber@oconomowoc.org or call the Oconomowoc Chamber of Commerce at 262-567-2666.\n\n\n\n*A table and two chairs will be provided.
X-ALT-DESC;FMTTYPE=text/html:<p style="font-variant-numeric: normal\; font-variant-east-asian: normal\; font-stretch: normal\; font-size: 15px\; line-height: 21px\; font-family: Verdana\, Arial\, Helvetica\, sans-serif\; margin: 12px 0px 0px\; padding: 0px\; color: rgb(40\, 40\, 40)\;"><span style="font-size:14px\;"><span style="font-family:verdana\;">The Oconomowoc Area Chamber of Commerce Job Expo provides the opportunity for job seekers\, high school students\, and local businesses to connect.<br />\n&nbsp\;<br />\nFor employers\, it provides a unique chance to promote your business and open positions to those who are actively seeking work\, and to help students explore careers and educational pathways.<br />\n<br />\nFor students and job seekers\, it is an opportunity to learn about the many great companies in the Oconomowoc area.</span></span></p>\n\n<ol>\n	<li style="font-variant-numeric: normal\; font-variant-east-asian: normal\; font-stretch: normal\; font-size: 15px\; line-height: 21px\; font-family: Verdana\, Arial\, Helvetica\, sans-serif\; margin: 12px 0px 0px\; padding: 0px\; color: rgb(40\, 40\, 40)\;"><span style="font-size:14px\;"><span style="font-family:verdana\;">High school students can use this as a resource to learn more about careers in various industries and to explore job openings in the area\, whether you are looking for a part-time position or want to launch right into your career.&nbsp\;</span></span></li>\n	<li style="font-variant-numeric: normal\; font-variant-east-asian: normal\; font-stretch: normal\; font-size: 15px\; line-height: 21px\; font-family: Verdana\, Arial\, Helvetica\, sans-serif\; margin: 12px 0px 0px\; padding: 0px\; color: rgb(40\, 40\, 40)\;"><span style="font-size:14px\;"><span style="font-family:verdana\;">For job seekers of any age\, it presents the ability to conveniently meet with representatives from many employers in a single day.&nbsp\;</span></span></li>\n</ol>\n\n<p style="font-variant-numeric: normal\; font-variant-east-asian: normal\; font-stretch: normal\; font-size: 15px\; line-height: 21px\; font-family: Verdana\, Arial\, Helvetica\, sans-serif\; margin: 12px 0px 0px\; padding: 0px\; color: rgb(40\, 40\, 40)\;"><br />\n<span style="color: rgb(40\, 40\, 40)\; font-family: verdana\; font-size: 14px\;">If you have any questions\, please contact chamber@oconomowoc.org or call the Oconomowoc Chamber of Commerce at 262-567-2666.<br />\n<br />\n*A table and two chairs will be provided.&nbsp\;</span></p>\n
LOCATION:Oconomowoc High School - Upper Gym 641 East Forest St
UID:e.3562.2228
SEQUENCE:3
DTSTAMP:20260419T231502Z
URL:https://business.oconomowoc.org/events/details/business-registration-job-expo-2228
END:VEVENT

END:VCALENDAR
