BEGIN:VCALENDAR
VERSION:2.0
PRODID:-//ChamberMaster//Event Calendar 2.0//EN
METHOD:PUBLISH
X-PUBLISHED-TTL:P3D
REFRESH-INTERVAL:P3D
CALSCALE:GREGORIAN
BEGIN:VEVENT
DTSTART:20251214T153000Z
DTEND:20251214T163000Z
X-MICROSOFT-CDO-ALLDAYEVENT:FALSE
SUMMARY:Children's Christmas Pageant
DESCRIPTION:Join us December 14 during our 9:30AM Worship Service.\n\nAs we prepare our hearts for Advent\, we invite you to embark on a Journey to the Manger with a twist! This year's Children's Christmas Pageant explores both the true spirit of Christmas and the distractions that can pull us away from it.\n\nJoin us on Sunday\, December 14\, during the 9:30 a.m. worship service\, as our children and youth come together to share a heartwarming and joy-filled performance that reminds us of the hope\, peace\, joy\, and love found in the Christmas story.\n\nCome ready to laugh\, reflect\, and be inspired as we celebrate the real meaning of Christmas through the eyes of our youngest storytellers.
X-ALT-DESC;FMTTYPE=text/html:<h2>Join us December 14 during our 9:30AM Worship Service.</h2>\n\n<p>As we prepare our hearts for Advent\, we invite you to embark on a Journey to the Manger with a twist! This year&rsquo\;s Children&rsquo\;s Christmas Pageant explores both the true spirit of Christmas and the distractions that can pull us away from it.</p>\n\n<p>Join us on Sunday\, December 14\, during the 9:30 a.m. worship service\, as our children and youth come together to share a heartwarming and joy-filled performance that reminds us of the hope\, peace\, joy\, and love found in the Christmas story.</p>\n\n<p>Come ready to laugh\, reflect\, and be inspired as we celebrate the real meaning of Christmas through the eyes of our youngest storytellers.</p>\n
LOCATION:815 S Concord Road
UID:e.3562.6597
SEQUENCE:3
DTSTAMP:20260421T181605Z
URL:https://business.oconomowoc.org/events/details/children-s-christmas-pageant-6597
END:VEVENT

END:VCALENDAR
