BEGIN:VCALENDAR
VERSION:2.0
PRODID:-//ChamberMaster//Event Calendar 2.0//EN
METHOD:PUBLISH
X-PUBLISHED-TTL:P3D
REFRESH-INTERVAL:P3D
CALSCALE:GREGORIAN
BEGIN:VEVENT
DTSTART:20251225T050000Z
DTEND:20251225T060000Z
X-MICROSOFT-CDO-ALLDAYEVENT:FALSE
SUMMARY:Christmas Eve Evening Worship Service
DESCRIPTION:Join us Wednesday\, December 24\n\n11:00PM Candlelight Service with Communion
X-ALT-DESC;FMTTYPE=text/html:<h2>Join us Wednesday\, December 24</h2>\n\n<h3><span style="font-size:13px">11:00PM Candlelight Service with Communion</span></h3>\n
LOCATION:815 S Concord Road
UID:e.3562.6600
SEQUENCE:3
DTSTAMP:20260421T181608Z
URL:https://business.oconomowoc.org/events/details/christmas-eve-evening-worship-service-6600
END:VEVENT

END:VCALENDAR
