BEGIN:VCALENDAR
VERSION:2.0
PRODID:-//ChamberMaster//Event Calendar 2.0//EN
METHOD:PUBLISH
X-PUBLISHED-TTL:P3D
REFRESH-INTERVAL:P3D
CALSCALE:GREGORIAN
BEGIN:VEVENT
DTSTART:20251224T220000Z
DTEND:20251224T230000Z
X-MICROSOFT-CDO-ALLDAYEVENT:FALSE
SUMMARY:Christmas Eve Worship Service
DESCRIPTION:Join us Wednesday\, December 24\n\n4:00PM Family Candlelight Service with Communion
X-ALT-DESC;FMTTYPE=text/html:<h2>Join us Wednesday\, December 24</h2>\n\n<h3>4:00PM Family Candlelight Service with Communion</h3>\n
LOCATION:815 S Concord Road
UID:e.3562.6599
SEQUENCE:3
DTSTAMP:20260421T193452Z
URL:https://business.oconomowoc.org/events/details/christmas-eve-worship-service-6599
END:VEVENT

END:VCALENDAR
