BEGIN:VCALENDAR
VERSION:2.0
PRODID:-//ChamberMaster//Event Calendar 2.0//EN
METHOD:PUBLISH
X-PUBLISHED-TTL:P3D
REFRESH-INTERVAL:P3D
CALSCALE:GREGORIAN
BEGIN:VEVENT
DTSTART:20260607T190000Z
DTEND:20260607T203000Z
X-MICROSOFT-CDO-ALLDAYEVENT:FALSE
SUMMARY:Cinderella
DESCRIPTION:At MainStage Academy of Dance | School of Classical Ballet\, we are proud to bring you our Magical production of Cinderella! Bursting with energy\, beauty\, and heart\, this enchanting performance will captivate audiences of all ages. Experience breathtaking costumes and vibrant sets paired with powerful\, expressive dancing set to the unforgettable music of Sergei Prokofiev\, John Lanchbery\, and Patrick Doyle. Choreographed by our Artistic Director\, Eddy Bray\, and inspired by Frederick Ashton\, our production brings this timeless fairytale to life in a truly magical way. Join us for an unforgettable performance\, get your tickets now before they're gone!
X-ALT-DESC;FMTTYPE=text/html:At MainStage Academy of Dance | School of Classical Ballet\, we are proud to bring you our Magical production of Cinderella! Bursting with energy\, beauty\, and heart\, this enchanting performance will captivate audiences of all ages. Experience breathtaking costumes and vibrant sets paired with powerful\, expressive dancing set to the unforgettable music of Sergei Prokofiev\, John Lanchbery\, and Patrick Doyle. Choreographed by our Artistic Director\, Eddy Bray\, and inspired by Frederick Ashton\, our production brings this timeless fairytale to life in a truly magical way. Join us for an unforgettable performance\, get your tickets now before they&rsquo\;re gone!
LOCATION:Oconomowoc Arts Center. 641 East Forest Street\, Oconomowoc\, WI 53066
UID:e.3562.6915
SEQUENCE:3
DTSTAMP:20260421T180858Z
URL:https://business.oconomowoc.org/events/details/cinderella-6915
END:VEVENT

END:VCALENDAR
