BEGIN:VCALENDAR
VERSION:2.0
PRODID:-//ChamberMaster//Event Calendar 2.0//EN
METHOD:PUBLISH
X-PUBLISHED-TTL:P3D
REFRESH-INTERVAL:P3D
CALSCALE:GREGORIAN
BEGIN:VEVENT
DTSTART:20220605T190000Z
DTEND:20220605T210000Z
X-MICROSOFT-CDO-ALLDAYEVENT:FALSE
SUMMARY:Cinderella Ballet
DESCRIPTION:We're excited to bring the enchanting story of Cinderella back to the Oconomowoc Art Center's Main Stage. This condensed version of Cinderella will be part of our annual student spring performance. In addition to Cinderella\, our small group of recreational dancers will perform dance numbers from their various classes. Upper division and pre-professional dancers will present classical ballet variations and contemporary choreography from this year's Youth America Grand Prix. This showcase has something the whole family can enjoy. We hope to see you there June 5th 2:00pm.
X-ALT-DESC;FMTTYPE=text/html:We&#39\;re excited to bring the enchanting story of Cinderella back to the Oconomowoc Art Center&#39\;s Main Stage. This condensed version of Cinderella will be part of our annual student spring performance. In addition to Cinderella\, our small group of recreational dancers will perform dance numbers from their various classes. Upper division and pre-professional dancers will present classical ballet variations and contemporary choreography from this year&#39\;s Youth America Grand Prix. This showcase has something the whole family can enjoy. We hope to see you there June 5th 2:00pm.
LOCATION:Oconomowoc Arts Center
UID:e.3562.2359
SEQUENCE:3
DTSTAMP:20260419T200430Z
URL:https://business.oconomowoc.org/events/details/cinderella-ballet-2359
END:VEVENT

END:VCALENDAR
