BEGIN:VCALENDAR
VERSION:2.0
PRODID:-//ChamberMaster//Event Calendar 2.0//EN
METHOD:PUBLISH
X-PUBLISHED-TTL:P3D
REFRESH-INTERVAL:P3D
CALSCALE:GREGORIAN
BEGIN:VEVENT
DTSTART:20250920T150000Z
DTEND:20250920T170000Z
X-MICROSOFT-CDO-ALLDAYEVENT:FALSE
SUMMARY:Community Curators
DESCRIPTION:Everyone collects something. Enjoy this fun\, informal program featuring unique collections\, each introduced with a brief presentation. This event is free and open to the public. Want to show your collection? Send us an email through this event or call 262-569-0740. Space is limited and available on a first-come-first-served basis. Reserve your spot today!
X-ALT-DESC;FMTTYPE=text/html:Everyone collects something. Enjoy this fun\, informal program featuring unique collections\, each introduced with a brief presentation. This event is free and open to the public. Want to show your collection? Send us an email through this event or call 262-569-0740. Space is limited and available on a first-come-first-served basis. Reserve your spot today!
LOCATION:103 W Jefferson St Oconomowoc\, WI 53066
UID:e.3562.6515
SEQUENCE:3
DTSTAMP:20260421T235924Z
URL:https://business.oconomowoc.org/events/details/community-curators-6515
END:VEVENT

END:VCALENDAR
