BEGIN:VCALENDAR
VERSION:2.0
PRODID:-//ChamberMaster//Event Calendar 2.0//EN
METHOD:PUBLISH
X-PUBLISHED-TTL:P3D
REFRESH-INTERVAL:P3D
CALSCALE:GREGORIAN
BEGIN:VEVENT
DTSTART;VALUE=DATE:20260516
DTEND;VALUE=DATE:20260517
TRANSP:TRANSPARENT
X-MICROSOFT-CDO-ALLDAYEVENT:TRUE
SUMMARY:Conservation Chase - Run\, Walk\, Ruck
DESCRIPTION:Join Tall Pines for the inaugural Conservation Chase\, a walk\, run\, or ruck event hosted at Lapham Peak State Park on Saturday\, May 16 and professionally managed by Silver Circle Sports. The event celebrates the protection of the nearby K. Redmond Family Preserve\, a conserved landscape of oak woodlands and meadow along the Ice Age Trail near Scuppernong Creek.\n\nOpen to all ages and abilities\, the Conservation Chase invites participants to enjoy Lapham Peak's trails while supporting local land conservation.
X-ALT-DESC;FMTTYPE=text/html:<p style="text-align:justify"><span style="font-size:14px">Join Tall Pines for the inaugural Conservation Chase\, a&nbsp\;</span><strong>walk\, run\, or ruck event hosted at Lapham Peak State Park</strong><span style="font-size:14px">&nbsp\;on Saturday\, May 16 and professionally managed by&nbsp\;</span><strong>Silver Circle Sports</strong><span style="font-size:14px">. The event celebrates the protection of the nearby K. Redmond Family Preserve\, a conserved landscape of oak woodlands and meadow along the Ice Age Trail near Scuppernong Creek.</span></p>\n\n<p style="text-align:justify"><span style="font-size:14px">Open to all ages and abilities\, the Conservation Chase invites participants to enjoy Lapham Peak&#39\;s trails while supporting local land conservation.</span></p>\n
LOCATION:Lapham Peak\, Delafield
UID:e.3562.6827
SEQUENCE:3
DTSTAMP:20260421T154805Z
URL:https://business.oconomowoc.org/events/details/conservation-chase-run-walk-ruck-6827
END:VEVENT

END:VCALENDAR
