BEGIN:VCALENDAR
VERSION:2.0
PRODID:-//ChamberMaster//Event Calendar 2.0//EN
METHOD:PUBLISH
X-PUBLISHED-TTL:P3D
REFRESH-INTERVAL:P3D
CALSCALE:GREGORIAN
BEGIN:VEVENT
DTSTART:20251213T153000Z
DTEND:20251213T180000Z
X-MICROSOFT-CDO-ALLDAYEVENT:FALSE
SUMMARY:Cookie Walk - Friends of the Oconomowoc Public Library
DESCRIPTION:Choose from a variety of delicious holiday treats that are sold by the pound. Proceeds benefit the Friends of the Oconomowoc Public Library which funds Explorer Passes\, care for Clementine (library animal ambassador)\, and more!
X-ALT-DESC;FMTTYPE=text/html:Choose from a variety of delicious holiday treats that are sold by the pound. Proceeds benefit the Friends of the Oconomowoc Public Library which funds Explorer Passes\, care for Clementine (library animal ambassador)\, and more!
LOCATION:Lyke Room at the Oconomowoc Public Library\, 200 W South St\, Oconomowoc
UID:e.3562.6601
SEQUENCE:3
DTSTAMP:20260421T181710Z
URL:https://business.oconomowoc.org/events/details/cookie-walk-friends-of-the-oconomowoc-public-library-6601
END:VEVENT

END:VCALENDAR
