BEGIN:VCALENDAR
VERSION:2.0
PRODID:-//ChamberMaster//Event Calendar 2.0//EN
METHOD:PUBLISH
X-PUBLISHED-TTL:P3D
REFRESH-INTERVAL:P3D
CALSCALE:GREGORIAN
BEGIN:VEVENT
DTSTART:20251211T140000Z
DTEND:20251211T180000Z
X-MICROSOFT-CDO-ALLDAYEVENT:FALSE
SUMMARY:Creating a Consistency Using Standardized Work
DESCRIPTION:Standardized work ensures that all employees and all departments who do the same or similar task do it in the same way. Variation between employees or departments causes defects\, waste\, and inefficiencies within an organization. Creating proper policies\, procedures\, work instructions\, and forms/records is an important component of Standardized Work.\n\n\n	Define what Standardized Work is.\n	Understand the importance of Standardized Work throughout an organization.\n	Learn techniques to create Standardized Work documentation.
X-ALT-DESC;FMTTYPE=text/html:<p>Standardized work ensures that all employees and all departments who do the same or similar task do it in the same way. Variation between employees or departments causes defects\, waste\, and inefficiencies within an organization. Creating proper policies\, procedures\, work instructions\, and forms/records is an important component of Standardized Work.</p>\n\n<ul>\n	<li>Define what Standardized Work is.</li>\n	<li>Understand the importance of Standardized Work throughout an organization.</li>\n	<li>Learn techniques to create Standardized Work documentation.</li>\n</ul>\n\n<p>&nbsp\;</p>\n
LOCATION:WCTC | Corporate Training Center 800 Main St\, Building Q Pewaukee\, WI 53072
UID:e.3562.6610
SEQUENCE:3
DTSTAMP:20260421T181301Z
URL:https://business.oconomowoc.org/events/details/creating-a-consistency-using-standardized-work-12-11-2025-6610
END:VEVENT

END:VCALENDAR
