BEGIN:VCALENDAR
VERSION:2.0
PRODID:-//ChamberMaster//Event Calendar 2.0//EN
METHOD:PUBLISH
X-PUBLISHED-TTL:P3D
REFRESH-INTERVAL:P3D
CALSCALE:GREGORIAN
BEGIN:VEVENT
DTSTART:20250912T160000Z
DTEND:20250912T200000Z
X-MICROSOFT-CDO-ALLDAYEVENT:FALSE
SUMMARY:Dimensions Living Open House
DESCRIPTION:Dimensions Living Oconomowoc invites you to our community grillout   a fun\, casual event open to everyone! Come enjoy great food\, meet our friendly team\, and connect with neighbors. Whether you're just stopping by for a bite or interested in touring our community\, we'd love to see you there. All are welcome!
X-ALT-DESC;FMTTYPE=text/html:Dimensions Living Oconomowoc invites you to our community grillout &mdash\; a fun\, casual event open to everyone! Come enjoy great food\, meet our friendly team\, and connect with neighbors. Whether you&#39\;re just stopping by for a bite or interested in touring our community\, we&rsquo\;d love to see you there. All are welcome!
LOCATION:540 E Forest St
UID:e.3562.6519
SEQUENCE:3
DTSTAMP:20260422T000511Z
URL:https://business.oconomowoc.org/events/details/dimensions-living-open-house-6519
END:VEVENT

END:VCALENDAR
