BEGIN:VCALENDAR
VERSION:2.0
PRODID:-//ChamberMaster//Event Calendar 2.0//EN
METHOD:PUBLISH
X-PUBLISHED-TTL:P3D
REFRESH-INTERVAL:P3D
CALSCALE:GREGORIAN
BEGIN:VEVENT
DTSTART;VALUE=DATE:20220414
DTEND;VALUE=DATE:20220415
TRANSP:TRANSPARENT
X-MICROSOFT-CDO-ALLDAYEVENT:TRUE
SUMMARY:Ebert's Greenhouse Village Opening Day!
DESCRIPTION:This is the day the gardener in you has been waiting for!  Ebert's is opening for the season at 8:00 a.m.!  Before Easter\, our business hours will be 8:00 to 5:00 Thursday\, Friday\, and Saturday and we will be closed for Easter Sunday.  Normal business hours will resume on Monday\, April 18th.  See you there!
X-ALT-DESC;FMTTYPE=text/html:<span style="font-family:verdana\;"><span style="font-size:14px">This is the day the gardener in you has been waiting for!&nbsp\; Ebert&#39\;s is opening for the season at 8:00 a.m.!&nbsp\; Before Easter\, our business hours will be 8:00 to 5:00 Thursday\, Friday\, and Saturday and we will be closed for Easter Sunday.&nbsp\; Normal business hours will resume on Monday\, April 18th.&nbsp\; See you there!</span></span>
LOCATION:
UID:e.3562.2022
SEQUENCE:3
DTSTAMP:20260419T201948Z
URL:https://business.oconomowoc.org/events/details/ebert-s-greenhouse-village-opening-day-2022
END:VEVENT

END:VCALENDAR
