BEGIN:VCALENDAR
VERSION:2.0
PRODID:-//ChamberMaster//Event Calendar 2.0//EN
METHOD:PUBLISH
X-PUBLISHED-TTL:P3D
REFRESH-INTERVAL:P3D
CALSCALE:GREGORIAN
BEGIN:VEVENT
DTSTART:20251010T140000Z
DTEND:20251010T170000Z
X-MICROSOFT-CDO-ALLDAYEVENT:FALSE
SUMMARY:Effective Communication
DESCRIPTION:The ability to communicate is an important tool in your pursuit of worthwhile goals\, whether it is with your co-workers\, customers or family.  During this interactive workshop you will assess your strengths and areas for improvement in your communication abilities.  All facets of communication will be covered thoroughly including nonverbal communication\, techniques to help others retain your message\, barriers to effective communication\, and best practices for electronic communication.   \n\n\n	Recognize your personal barriers to communication and their impact.\n	Understand practical ways to improve your listening and communication skills.\n	Identify your communication style.\n	Learn how to apply your communication style towards improving team performance.\n	Review communication best practices for working remotely.
X-ALT-DESC;FMTTYPE=text/html:<p><span style="font-size:11pt"><span style="font-family:arial">The ability to communicate is an important tool in your pursuit of worthwhile goals\, whether it is with your co-workers\, customers or family. &nbsp\;During this interactive workshop&nbsp\;you will assess your strengths and areas for improvement in your communication abilities. &nbsp\;All facets of communication will&nbsp\;be covered thoroughly including nonverbal communication\, techniques to help others retain your message\, barriers to effective communication\, and best practices for electronic communication. &nbsp\;&nbsp\;</span></span></p>\n\n<ul>\n	<li style="text-align:left"><span style="font-size:11pt">Recognize your personal barriers to communication and their impact.</span></li>\n	<li style="text-align:left"><span style="font-size:11pt">Understand practical ways to improve your listening and communication skills.</span></li>\n	<li style="text-align:left"><span style="font-size:11pt">Identify your communication style.</span></li>\n	<li style="text-align:left"><span style="font-size:11pt">Learn how to apply your communication style towards improving team performance.</span></li>\n	<li style="text-align:left"><span style="font-size:11pt">Review communication best practices for working remotely.&nbsp\;</span></li>\n</ul>\n\n<p>&nbsp\;</p>\n
LOCATION:WCTC Corporate Training Center 800 Main St\, Building Q Pewaukee\, WI 53072
UID:e.3562.6536
SEQUENCE:3
DTSTAMP:20260421T205943Z
URL:https://business.oconomowoc.org/events/details/effective-communication-10-10-2025-6536
END:VEVENT

END:VCALENDAR
