BEGIN:VCALENDAR
VERSION:2.0
PRODID:-//ChamberMaster//Event Calendar 2.0//EN
METHOD:PUBLISH
X-PUBLISHED-TTL:P3D
REFRESH-INTERVAL:P3D
CALSCALE:GREGORIAN
BEGIN:VEVENT
DTSTART:20220216T000000Z
DTEND:20220216T013000Z
X-MICROSOFT-CDO-ALLDAYEVENT:FALSE
SUMMARY:Family Paint Party at the Library
DESCRIPTION:Paint some love with someone you love to create a side-by-side painting. Come as a pair or we can pair you up. Maximum two adults and two children per registration. Best for ages five and up.
X-ALT-DESC;FMTTYPE=text/html:<span style="font-size:14px\;"><span style="font-family:verdana\;">Paint some love with someone you love to create a side-by-side painting. Come as a pair or we can pair you up. Maximum two adults and two children per registration. Best for ages five and up.</span></span>
LOCATION:Oconomowoc Public Library 200 West South Street Oconomowoc\, WI 53066
UID:e.3562.2011
SEQUENCE:3
DTSTAMP:20260420T004722Z
URL:https://business.oconomowoc.org/events/details/family-paint-party-at-the-library-2011
END:VEVENT

END:VCALENDAR
