BEGIN:VCALENDAR
VERSION:2.0
PRODID:-//ChamberMaster//Event Calendar 2.0//EN
METHOD:PUBLISH
X-PUBLISHED-TTL:P3D
REFRESH-INTERVAL:P3D
CALSCALE:GREGORIAN
BEGIN:VEVENT
DTSTART;VALUE=DATE:20220725
DTEND;VALUE=DATE:20220726
TRANSP:TRANSPARENT
X-MICROSOFT-CDO-ALLDAYEVENT:TRUE
SUMMARY:Family Promise of Waukesha County 2022 Golf Outing
DESCRIPTION:Save the date and assemble your team for the Family Promise of Waukesha County Golf Outing. Enjoy golf while securing the future of families experiencing homelessness or at risk of homelessness!  An evening program will follow the outing.
X-ALT-DESC;FMTTYPE=text/html:Save the date and assemble your team for the Family Promise of Waukesha County Golf Outing. Enjoy golf while securing the future of families experiencing homelessness or at risk of homelessness!&nbsp\; An evening program will follow the outing.&nbsp\;
LOCATION:Oconomowoc Golf Club W360 N5261 Brown St Oconomowoc\, WI 53066
UID:e.3562.2300
SEQUENCE:3
DTSTAMP:20260419T214316Z
URL:https://business.oconomowoc.org/events/details/family-promise-of-waukesha-county-2022-golf-outing-2300
END:VEVENT

END:VCALENDAR
