BEGIN:VCALENDAR
VERSION:2.0
PRODID:-//ChamberMaster//Event Calendar 2.0//EN
METHOD:PUBLISH
X-PUBLISHED-TTL:P3D
REFRESH-INTERVAL:P3D
CALSCALE:GREGORIAN
BEGIN:VEVENT
DTSTART:20220423T170000Z
DTEND:20220423T190000Z
X-MICROSOFT-CDO-ALLDAYEVENT:FALSE
SUMMARY:Family Promise of Waukesha County Day Center Open House - April 23\, 2022
DESCRIPTION:You are invited to an Open House of the new Family Promise of Waukesha County Day Center. Please join us on April 23 between 12-2 pm as we celebrate this new moment in serving low income families and families experiencing homelessness to move toward independence and self-sufficiency.   \n\nDuring this day we will also celebrate you! It is the people who have served as volunteers\, supporters and donors that have made Family Promise of Waukesha County a reality.  \n\nStop by any time between 12-2 pm on Saturday\, April 23 for refreshments and a tour of the Day Center.  A short ribbon cutting ceremony with Waukesha County Executive Paul Farrow and Waukesha Mayor Shawn Reilly will be held at 1 pm. \n\nPlease note we follow the guidelines set forth by the CDC regarding Covid-19 and homeless shelters\, therefore guests will be asked to wear masks while inside the facility.
X-ALT-DESC;FMTTYPE=text/html:<p><span style="font-size:14px\;"><span style="font-family:verdana\;">You are invited to an Open House of the new Family Promise of Waukesha County Day Center. Please join us on April 23 between 12-2 pm as we celebrate this new moment in serving low income families and families experiencing homelessness to move toward independence and self-sufficiency.&nbsp\; &nbsp\;</span></span></p>\n\n<p><span style="font-size:14px\;"><span style="font-family:verdana\;">During this day we will also celebrate you! It is the people who have served as volunteers\, supporters and donors that have made Family Promise of Waukesha County a reality.&nbsp\;&nbsp\;</span></span></p>\n\n<p><span style="font-size:14px\;"><span style="font-family:verdana\;"><strong>Stop by any time between 12-2 pm on Saturday\, April 23 for refreshments and a tour of the Day Center.&nbsp\;&nbsp\;</strong><strong>A short ribbon cutting ceremony with Waukesha County Executive Paul Farrow and Waukesha Mayor Shawn Reilly will be held at 1 pm.</strong>&nbsp\;</span></span></p>\n\n<p><span style="font-size:14px\;"><span style="font-family:verdana\;">Please note we follow the guidelines set forth by the CDC regarding Covid-19 and homeless shelters\, therefore guests will be asked to wear masks while inside the facility.</span></span></p>\n
LOCATION:Family Promise of Waukesha County 139 E North Street Waukesha\, WI 53188 Parking: Available 1 block north of our building at Waukesha Metro on Brook Street\, or at the Waukesha State Bank parking lot one block east of us on St. Paul Avenue.
UID:e.3562.2302
SEQUENCE:3
DTSTAMP:20260419T201705Z
URL:https://business.oconomowoc.org/events/details/family-promise-of-waukesha-county-open-house-april-23-2022-2302
END:VEVENT

END:VCALENDAR
