BEGIN:VCALENDAR
VERSION:2.0
PRODID:-//ChamberMaster//Event Calendar 2.0//EN
METHOD:PUBLISH
X-PUBLISHED-TTL:P3D
REFRESH-INTERVAL:P3D
CALSCALE:GREGORIAN
BEGIN:VEVENT
DTSTART:20251115T010000Z
DTEND:20251115T030000Z
X-MICROSOFT-CDO-ALLDAYEVENT:FALSE
SUMMARY:Fiddler On The Roof - OHS Players
DESCRIPTION:OASD | Oconomowoc High School | 7 PM Friday & Saturday\, Nov 14-15 & 21-22\, 2 PM Sunday\, Nov 16 & 4 p.m. Thursday\, Nov 20*\, 2025\n\n \n\nThe Oconomowoc High School Players present the beloved musical "Fiddler on the Roof" with music by Jerry Bock\, lyrics by Sheldon Harnick\, and book by Joseph Stein.\n\n\n\nSet in a Jewish community of a pre-revolutionary Russian village\, the story centers on Tevye\, a poor milkman\, determined to find good husbands for his daughters\, while also attempting to maintain his religious and cultural traditions as outside influences encroach upon his family's lives. Audiences of all ages will enjoy iconic songs\, including "Tradition\," "If I Were a Rich Man\," "Matchmaker\, "Sunrise\, Sunset\," "Do You Love Me\," and many more.\n\n\n\nTICKETS: $18 Regular (20 & Older) | $15 Group (10 or More) | $15 Youth (19 & Younger)\n\n\n\n*Student/Staff Show (all are welcome to attend)
X-ALT-DESC;FMTTYPE=text/html:OASD | Oconomowoc High School | 7 PM Friday &amp\; Saturday\, Nov 14-15 &amp\; 21-22\, 2 PM Sunday\, Nov 16 &amp\; 4 p.m. Thursday\, Nov 20*\, 2025<br />\n&nbsp\;<br />\nThe Oconomowoc High School Players present the beloved musical &ldquo\;Fiddler on the Roof&rdquo\; with music by Jerry Bock\, lyrics by Sheldon Harnick\, and book by Joseph Stein.<br />\n<br />\nSet in a Jewish community of a pre-revolutionary Russian village\, the story centers on Tevye\, a poor milkman\, determined to find good husbands for his daughters\, while also attempting to maintain his religious and cultural traditions as outside influences encroach upon his family&#39\;s lives. Audiences of all ages will enjoy iconic songs\, including &ldquo\;Tradition\,&rdquo\; &ldquo\;If I Were a Rich Man\,&rdquo\; &ldquo\;Matchmaker\, &ldquo\;Sunrise\, Sunset\,&rdquo\; &ldquo\;Do You Love Me\,&rdquo\; and many more.<br />\n<br />\nTICKETS:&nbsp\;$18 Regular (20 &amp\; Older) | $15 Group (10 or More) | $15 Youth (19 &amp\; Younger)<br />\n<br />\n*Student/Staff Show (all are welcome to attend)
LOCATION:Oconomowoc Arts Center 641 E Forest St Oconomowoc\, WI 53066
UID:e.3562.5844
SEQUENCE:3
DTSTAMP:20260421T193655Z
URL:https://business.oconomowoc.org/events/details/fiddler-on-the-roof-ohs-players-5844
END:VEVENT

END:VCALENDAR
