BEGIN:VCALENDAR
VERSION:2.0
PRODID:-//ChamberMaster//Event Calendar 2.0//EN
METHOD:PUBLISH
X-PUBLISHED-TTL:P3D
REFRESH-INTERVAL:P3D
CALSCALE:GREGORIAN
BEGIN:VEVENT
DTSTART;VALUE=DATE:20220324
DTEND;VALUE=DATE:20220325
TRANSP:TRANSPARENT
X-MICROSOFT-CDO-ALLDAYEVENT:TRUE
SUMMARY:Form Through Line Work - Homeschool Art Class
DESCRIPTION:Form through Line Work\n\nIn this class students will learn the use of different line techniques for drawing 3-dimensional forms and illusion art. They will learn about Randolph Caldecott the famous children's book illustrator and create an illustration for their own story.\n\n\n\nHomeschool Art Classes introduce students to formal art techniques. In our first four classes\, the students will learn how to create 3-dimensional form through value shading\, line work\, and composition. They will explore surrealism\, impressionism\, book illustration\, and Chinese hanging scrolls. Each week a new artist will be highlighted and new skills taught. It will be a great learning experience for children 10 yrs. old and up.
X-ALT-DESC;FMTTYPE=text/html:<strong>Form through Line Work</strong><br />\nIn this class students will learn the use of different line techniques for drawing 3-dimensional forms and illusion art. They will learn about Randolph Caldecott the famous children&rsquo\;s book illustrator and create an illustration for their own story.<br />\n<br />\nHomeschool Art Classes introduce students to formal art techniques. In our first four classes\, the students will learn how to create 3-dimensional form through value shading\, line work\, and composition. They will explore surrealism\, impressionism\, book illustration\, and Chinese hanging scrolls. Each week a new artist will be highlighted and new skills taught. It will be a great learning experience for children 10 yrs. old and up.<br />\n&nbsp\;
LOCATION:Carol Ann's Gracerie 521 S Westover St. Oconomowoc\, WI 53066 3rd Floor Art Studio The studio is not handicapped accessible. Students must be able to climb stairs.
UID:e.3562.2240
SEQUENCE:3
DTSTAMP:20260419T213740Z
URL:https://business.oconomowoc.org/events/details/form-through-line-work-homeschool-art-class-2240
END:VEVENT

END:VCALENDAR
