BEGIN:VCALENDAR
VERSION:2.0
PRODID:-//ChamberMaster//Event Calendar 2.0//EN
METHOD:PUBLISH
X-PUBLISHED-TTL:P3D
REFRESH-INTERVAL:P3D
CALSCALE:GREGORIAN
BEGIN:VEVENT
DTSTART:20251121T180000Z
DTEND:20251121T190000Z
X-MICROSOFT-CDO-ALLDAYEVENT:FALSE
SUMMARY:Free Community Connection Lunch
DESCRIPTION:The Community Connection Meal is a time to gather and enjoy a warm meal in a welcoming space that celebrates fellowship and belonging. Soups\, salad and bread will be served. Vegetarian and Gluten free options. Free and open to the community. Registration required to reserve your spot! In addition to the meal\, there will be a short activity or program designed to spark connection and build community. Join us!
X-ALT-DESC;FMTTYPE=text/html:The Community Connection Meal is a time to gather and enjoy a warm meal in a welcoming space that celebrates fellowship and belonging. Soups\, salad and bread will be served. Vegetarian and Gluten free options. Free and open to the community. Registration required to reserve your spot!&nbsp\;In addition to the meal\, there will be a short activity or program designed to spark connection and build community. Join us!
LOCATION:YMCA at Pabst Farms 1750 E. Valley Road Oconomowoc\, WI 53066
UID:e.3562.6594
SEQUENCE:3
DTSTAMP:20260421T210041Z
URL:https://business.oconomowoc.org/events/details/free-community-connection-lunch-6594
END:VEVENT

END:VCALENDAR
