BEGIN:VCALENDAR
VERSION:2.0
PRODID:-//ChamberMaster//Event Calendar 2.0//EN
METHOD:PUBLISH
X-PUBLISHED-TTL:P3D
REFRESH-INTERVAL:P3D
CALSCALE:GREGORIAN
BEGIN:VEVENT
DTSTART:20250510T170000Z
DTEND:20250510T210000Z
X-MICROSOFT-CDO-ALLDAYEVENT:FALSE
SUMMARY:Free Mega Tasting
DESCRIPTION:Free Tasting Event of Beer/Wine/Spirits at City Spirits Liquor Store in Oconomowoc! Over 15 distributors and 50+ products to try and sample for FREE! Open house from 12-4pm.
X-ALT-DESC;FMTTYPE=text/html:Free Tasting Event of Beer/Wine/Spirits at City Spirits Liquor Store in Oconomowoc! Over 15 distributors and 50+ products to try and sample for FREE! Open house from 12-4pm.
LOCATION:City Spirits Liquor Store 1290 N. Summit Ave Oconomowoc\, WI 53066
UID:e.3562.5713
SEQUENCE:3
DTSTAMP:20260419T121418Z
URL:https://business.oconomowoc.org/events/details/free-mega-tasting-05-10-2025-5713
END:VEVENT

END:VCALENDAR
