BEGIN:VCALENDAR
VERSION:2.0
PRODID:-//ChamberMaster//Event Calendar 2.0//EN
METHOD:PUBLISH
X-PUBLISHED-TTL:P3D
REFRESH-INTERVAL:P3D
CALSCALE:GREGORIAN
BEGIN:VEVENT
DTSTART:20220406T160000Z
DTEND:20220406T220000Z
X-MICROSOFT-CDO-ALLDAYEVENT:FALSE
SUMMARY:Gordon Flesch Company - Production Showcase
DESCRIPTION:Join us for our open house and product showcase. Have lunch and tour our new production demo room. Our print and technology experts will be on hand to discuss the latest production printers\, large format printers and print finishing solutions.\n\n	No scheduled presentations\n	Stop by and talk with our in-house technology experts\n	Learn more about the full line of GFC business solutions.\n	Ongoing demonstrations of Canon and Ricoh production and large format printers and Duplo finishing solutions
X-ALT-DESC;FMTTYPE=text/html:<span style="background-color:rgb(255\, 255\, 255)\; color:rgb(26\, 26\, 26)\; font-family:poppins\,sans-serif\; font-size:14px">Join us for our open house and product showcase.&nbsp\;Have lunch and tour our new production demo room. Our print and technology experts will be on hand to discuss the latest production printers\, large format printers and print finishing solutions.</span>\n<ul>\n	<li><span style="background-color:rgb(255\, 255\, 255)\; color:rgb(26\, 26\, 26)\; font-family:poppins\,sans-serif\; font-size:14px">No scheduled presentations</span></li>\n	<li><span style="background-color:rgb(255\, 255\, 255)\; color:rgb(26\, 26\, 26)\; font-family:poppins\,sans-serif\; font-size:14px">Stop by and talk with our in-house technology experts</span></li>\n	<li><span style="background-color:rgb(255\, 255\, 255)\; color:rgb(26\, 26\, 26)\; font-family:poppins\,sans-serif\; font-size:14px">Learn more about the full line of GFC business solutions.</span></li>\n	<li><span style="background-color:rgb(255\, 255\, 255)\; color:rgb(26\, 26\, 26)\; font-family:poppins\,sans-serif\; font-size:14px">Ongoing demonstrations of Canon and Ricoh production and large format printers and Duplo finishing solutions</span></li>\n</ul>\n
LOCATION:Gordon Flesch Company | 11021 West Lincoln Avenue | West Allis\, WI 53227
UID:e.3562.2225
SEQUENCE:3
DTSTAMP:20260419T201240Z
URL:https://business.oconomowoc.org/events/details/gordon-flesch-company-production-showcase-2225
END:VEVENT

END:VCALENDAR
