BEGIN:VCALENDAR
VERSION:2.0
PRODID:-//ChamberMaster//Event Calendar 2.0//EN
METHOD:PUBLISH
X-PUBLISHED-TTL:P3D
REFRESH-INTERVAL:P3D
CALSCALE:GREGORIAN
BEGIN:VEVENT
DTSTART:20251012T150000Z
DTEND:20251012T173000Z
X-MICROSOFT-CDO-ALLDAYEVENT:FALSE
SUMMARY:Halloween Play Time
DESCRIPTION:Join us for early afternoon Halloween fun! Open gym with toys\, games\, space to run around AND a Halloween movie with popcorn and coloring pages in our cafeteria party room. Check out our space\, burn some energy\, and come play with us! $7 per child at the door.
X-ALT-DESC;FMTTYPE=text/html:Join us for early afternoon Halloween fun! Open gym with toys\, games\, space to run around AND a Halloween movie with popcorn and coloring pages in our cafeteria party room. Check out our space\, burn some energy\, and come play with us! $7 per child at the door.
LOCATION:W329N4476 Lakeland Drive Nashotah\, WI 53058
UID:e.3562.6565
SEQUENCE:3
DTSTAMP:20260421T205944Z
URL:https://business.oconomowoc.org/events/details/halloween-play-time-6565
END:VEVENT

END:VCALENDAR
