BEGIN:VCALENDAR
VERSION:2.0
PRODID:-//ChamberMaster//Event Calendar 2.0//EN
METHOD:PUBLISH
X-PUBLISHED-TTL:P3D
REFRESH-INTERVAL:P3D
CALSCALE:GREGORIAN
BEGIN:VEVENT
DTSTART;VALUE=DATE:20220902
DTEND;VALUE=DATE:20220906
TRANSP:TRANSPARENT
X-MICROSOFT-CDO-ALLDAYEVENT:TRUE
SUMMARY:Harley Davidson - Hometown Rally
DESCRIPTION:Get ready for a party at Wisconsin Harley-Davidson's Hometown Rally in Oconomowoc! Oconomowoc has 4 days of live entertainment on 2 stages with 23 bands and over 50 vendors. Join the 1st Annual Beer Pong Tournament Sponsored by Hinterland Brewery and grab a seat at the Lake Country Cigar Lounge. Experience the local breweries \, food trucks\, Dockhounds' stadium style food stand and so much more! This year we've doubled our on-site bike parking and a complimentary shuttle is available from Fleet Farm in Oconomowoc to Wisconsin Harley-Davidson. Are you Rally ready?! See you this Labor Day weekend\, Sept. 2-5\, 2022!
X-ALT-DESC;FMTTYPE=text/html:Get ready for a party at Wisconsin Harley-Davidson&#39\;s Hometown Rally in Oconomowoc! Oconomowoc has 4 days of live entertainment on 2 stages with 23 bands and over 50 vendors. Join the 1st Annual Beer Pong Tournament Sponsored by Hinterland Brewery and grab a seat at the Lake Country Cigar Lounge. Experience the local breweries \, food trucks\, Dockhounds&#39\; stadium style food stand and so much more! This year we&#39\;ve doubled our on-site bike parking and a complimentary shuttle is available from Fleet Farm in Oconomowoc to Wisconsin Harley-Davidson. Are you Rally ready?! See you this Labor Day weekend\, Sept. 2-5\, 2022!
LOCATION:1280 Blue Ribbon Dr. Oconomowoc\, WI 53066
UID:e.3562.2479
SEQUENCE:3
DTSTAMP:20260419T184330Z
URL:https://business.oconomowoc.org/events/details/harley-davidson-hometown-rally-2479
END:VEVENT

END:VCALENDAR
