BEGIN:VCALENDAR
VERSION:2.0
PRODID:-//ChamberMaster//Event Calendar 2.0//EN
METHOD:PUBLISH
X-PUBLISHED-TTL:P3D
REFRESH-INTERVAL:P3D
CALSCALE:GREGORIAN
BEGIN:VEVENT
DTSTART:20251019T230000Z
DTEND:20251020T010000Z
X-MICROSOFT-CDO-ALLDAYEVENT:FALSE
SUMMARY:High School Open Mic
DESCRIPTION:Come be a part of a creative community in the Lake Country Area\, network with other musicians\, share your original music/covers\, or just come check it out and listen! I am passionate about music and creating a community surrounding it\, and this is absolutely something that I wished existed while I was in high school. This gives young musicians and singer-songwriters the opportunity to perform live in front of a low-pressure audience (perfect for those who have never performed live before) and the chance to ask questions about being a young musician. Please share this with any high-school-aged musicians who you think would be interested! I am so excited to bring this creative community space to Lake Country. (We welcome all genres of music and any skill level)
X-ALT-DESC;FMTTYPE=text/html:Come be a part of a creative community in the Lake Country Area\, network with other musicians\, share your original music/covers\, or just come check it out and listen! I am passionate about music and creating a community surrounding it\, and this is absolutely something that I wished existed while I was in high school. This gives young musicians and singer-songwriters the opportunity to perform live in front of a low-pressure audience (perfect for those who have never performed live before) and the chance to ask questions about being a young musician. Please share this with any high-school-aged musicians who you think would be interested! I am so excited to bring this creative community space to Lake Country. (We welcome all genres of music and any skill level)
LOCATION:W329N4476 Lakeland Drive Nashotah\, WI 53058
UID:e.3562.6566
SEQUENCE:3
DTSTAMP:20260421T205902Z
URL:https://business.oconomowoc.org/events/details/high-school-open-mic-6566
END:VEVENT

END:VCALENDAR
