BEGIN:VCALENDAR
VERSION:2.0
PRODID:-//ChamberMaster//Event Calendar 2.0//EN
METHOD:PUBLISH
X-PUBLISHED-TTL:P3D
REFRESH-INTERVAL:P3D
CALSCALE:GREGORIAN
BEGIN:VEVENT
DTSTART:20250812T150000Z
DTEND:20250813T010000Z
X-MICROSOFT-CDO-ALLDAYEVENT:FALSE
SUMMARY:Historic Boat Tour- August 12\, 2025
DESCRIPTION:Join us for a unique opportunity to learn the rich history of Oconomowoc on a 90 min narrated Historic Boat Tour around Lac Labelle in Oconomowoc\, WI.
X-ALT-DESC;FMTTYPE=text/html:<span style="font-size:12px\;"><span style="font-family:verdana\;">Join us for a unique opportunity to learn the rich history of Oconomowoc on a 90 min narrated Historic Boat Tour around Lac Labelle in Oconomowoc\, WI.&nbsp\;&nbsp\;</span></span>
LOCATION:Located at City Beach on W. Wisconsin Ave in Downtown Oconomowoc next to the Community Center.
UID:e.3562.5588
SEQUENCE:3
DTSTAMP:20260422T012827Z
URL:https://business.oconomowoc.org/events/details/historic-boat-tour-august-12-2025-5588
END:VEVENT

END:VCALENDAR
