BEGIN:VCALENDAR
VERSION:2.0
PRODID:-//ChamberMaster//Event Calendar 2.0//EN
METHOD:PUBLISH
X-PUBLISHED-TTL:P3D
REFRESH-INTERVAL:P3D
CALSCALE:GREGORIAN
BEGIN:VEVENT
DTSTART:20251213T150000Z
DTEND:20251213T170000Z
X-MICROSOFT-CDO-ALLDAYEVENT:FALSE
SUMMARY:Holiday Bake Sale
DESCRIPTION:Take the stress out of holiday baking and support our Youth Mission Trip at the same time! Join us for our Christmas Bake Sale on December 13\, where you'll find a delicious variety of homemade cookies\, candies\, bars\, and more.\n\nOur congregation is filled with amazing bakers\, and they're whipping up their best holiday treats just for you. Come stock up on sweets\, share the joy of the season\, and help our youth make a difference!
X-ALT-DESC;FMTTYPE=text/html:<p>Take the stress out of holiday baking and support our Youth Mission Trip at the same time! Join us for our Christmas Bake Sale on December 13\, where you&rsquo\;ll find a delicious variety of homemade cookies\, candies\, bars\, and more.</p>\n\n<p>Our congregation is filled with amazing bakers\, and they&rsquo\;re whipping up their best holiday treats just for you. Come stock up on sweets\, share the joy of the season\, and help our youth make a difference!</p>\n
LOCATION:815 S Concord Road
UID:e.3562.6596
SEQUENCE:3
DTSTAMP:20260421T181435Z
URL:https://business.oconomowoc.org/events/details/holiday-bake-sale-6596
END:VEVENT

END:VCALENDAR
