BEGIN:VCALENDAR
VERSION:2.0
PRODID:-//ChamberMaster//Event Calendar 2.0//EN
METHOD:PUBLISH
X-PUBLISHED-TTL:P3D
REFRESH-INTERVAL:P3D
CALSCALE:GREGORIAN
BEGIN:VEVENT
DTSTART:20251204T230000Z
DTEND:20251205T030000Z
X-MICROSOFT-CDO-ALLDAYEVENT:FALSE
SUMMARY:Holiday Ladies Night
DESCRIPTION:Round up your besties\, your family\, and your favorite coworkers for a festive evening of DINNER\, DRINKS\, and HOLIDAY SHOPPING!  Browse through a wonderland of local treasures   from sparkling jewelry and scrumptious baked goodies to luxe beauty products\, handcrafted gifts\, and so much more! When you're ready to rest your shopping bags\, treat yourself to a cozy appetizer\, a delicious dinner\, or a merry holiday cocktail. Then join our Cocktail Class and watch our favorite bartender teach you how to create some festive cocktails for all your holiday entertaining needs (samples\, anyone?) And don't forget   enter our RAFFLE for a chance to win some fabulous prizes! *This joyful event was dreamed up by women\, featuring an amazing lineup of local women-owned businesses. Come shop\, sip\, and celebrate sisterhood and the season!
X-ALT-DESC;FMTTYPE=text/html:Round up your besties\, your family\, and your favorite coworkers for a festive evening of DINNER\, DRINKS\, and HOLIDAY SHOPPING!&nbsp\; Browse through a wonderland of local treasures &mdash\; from sparkling jewelry and scrumptious baked goodies to luxe beauty products\, handcrafted gifts\, and so much more! When you&rsquo\;re ready to rest your shopping bags\, treat yourself to a cozy appetizer\, a delicious dinner\, or a merry holiday cocktail. Then join our Cocktail Class and watch our favorite bartender teach you how to create some festive cocktails for all your holiday entertaining needs (samples\, anyone?) And don&rsquo\;t forget &mdash\; enter our RAFFLE for a chance to win some fabulous prizes! *This joyful event was dreamed up by women\, featuring an amazing lineup of local women-owned businesses. Come shop\, sip\, and celebrate sisterhood and the season!&nbsp\;
LOCATION:1443 Pabst Farms Circle Oconomowoc WI 53066
UID:e.3562.6603
SEQUENCE:3
DTSTAMP:20260421T181541Z
URL:https://business.oconomowoc.org/events/details/holiday-ladies-night-6603
END:VEVENT

END:VCALENDAR
