BEGIN:VCALENDAR
VERSION:2.0
PRODID:-//ChamberMaster//Event Calendar 2.0//EN
METHOD:PUBLISH
X-PUBLISHED-TTL:P3D
REFRESH-INTERVAL:P3D
CALSCALE:GREGORIAN
BEGIN:VEVENT
DTSTART:20260219T000000Z
DTEND:20260219T023000Z
X-MICROSOFT-CDO-ALLDAYEVENT:FALSE
SUMMARY:Human Trafficking 101
DESCRIPTION:Learn the Who\, How\, Why.\n\nHear inspiring stories of hope! RSVP Now!\n\nIt affects too many lives\; It happens in all 72 counties of Wisconsin.\n\nCome learn about this issue and what you can do to make a difference in lives of those affected. You will leave with understanding: how individuals get trapped\, why they stay\, why it's so hard to leave and what Redeem and Restore Center doing to impact their lives.\n\nEVERY LIFE deserves a chance for a Victorious conclusion!!\n\nEVERYONE can DO something!\n\nWhat is Redeem and Restore Center doing about it?\n\nWill you want to partner with us in seeing more women's lives REDEEMED & RESTORED!\n\nREGISTER TODAY. Appropriate for age 12 and up.
X-ALT-DESC;FMTTYPE=text/html:<h2>Learn the Who\, How\, Why.<br />\nHear inspiring stories of hope!<a href="https://secure.qgiv.com/for/wlw/event/domestichumantrafficking101volunteertraining/" rel="noreferrer noopener" style="box-sizing: inherit\; color: rgb(141\, 137\, 165)\; text-decoration: none\; transition: color 0.2s ease-in-out\, background-color 0.2s ease-in-out\; text-decoration-style: solid\; text-decoration-color: currentcolor\;" target="_blank">&nbsp\;<strong>RSVP Now!</strong></a></h2>\n\n<p>It affects too many lives\; It happens in all 72 counties of Wisconsin.</p>\n\n<p>Come learn about this issue and what you can do to make a difference in lives of those affected. You will leave with understanding: how individuals get trapped\, why they stay\, why it&rsquo\;s so hard to leave and what Redeem and Restore Center doing to impact their lives.</p>\n\n<p>EVERY LIFE deserves a chance for a Victorious conclusion!!</p>\n\n<h4>EVERYONE can DO something!</h4>\n\n<h4>What is Redeem and Restore Center doing about it?</h4>\n\n<h4>Will you want to partner with us in seeing more women&rsquo\;s lives REDEEMED &amp\; RESTORED!</h4>\n\n<p><strong>REGISTER TODAY. Appropriate for age 12 and up.&nbsp\;</strong></p>\n
LOCATION:Waukesha Public Library
UID:e.3562.6697
SEQUENCE:3
DTSTAMP:20260421T153342Z
URL:https://business.oconomowoc.org/events/details/human-trafficking-101-6697
END:VEVENT

END:VCALENDAR
