BEGIN:VCALENDAR
VERSION:2.0
PRODID:-//ChamberMaster//Event Calendar 2.0//EN
METHOD:PUBLISH
X-PUBLISHED-TTL:P3D
REFRESH-INTERVAL:P3D
CALSCALE:GREGORIAN
BEGIN:VEVENT
DTSTART:20250921T000000Z
DTEND:20250921T020000Z
X-MICROSOFT-CDO-ALLDAYEVENT:FALSE
SUMMARY:I Can Go on Singing - Judy Garland Musical
DESCRIPTION:OAC Main Stage Series | 3 & 7 PM Saturday\, September 20\, 2025\n\n \n\nIt's June 1969 and a young\, struggling songwriter is playing piano when iconic actress and singer Judy Garland walks into his bar in Brooklyn\, NYC. What transpires is an evening of songs\, touching stories\, and a little soul-searching that helps them both discover their true destinies.\n\n \n\nWritten\, produced\, and directed by former OAC director Michael Duncan\, "I Can Go on Singing" is composed by Terry Dillon\, and stars local talent Kelly Clifton as Judy Garland\,  Johnny Rodgers as Roger Stevens\, the up-and-coming singer-songwriter\, and Doug Jarecki as Carl Slovak\, the bartender. \n\n \n\n \n\nTICKETS: $39 Regular | $34 Senior (60 & Older) | $34 Military Personnel (with ID) | $33 Group (10 or More) | $18 Youth (19 & Younger)
X-ALT-DESC;FMTTYPE=text/html:<h5>OAC Main Stage Series | 3 &amp\; 7 PM Saturday\, September 20\, 2025<br />\n&nbsp\;<br />\nIt&rsquo\;s June 1969 and a young\, struggling songwriter is playing piano when iconic actress and singer Judy Garland walks into his bar in Brooklyn\, NYC. What transpires is an evening of songs\, touching stories\, and a little soul-searching that helps them both discover their true destinies.<br />\n&nbsp\;<br />\nWritten\, produced\, and directed by former OAC director Michael Duncan\, &ldquo\;I Can Go on Singing&rdquo\; is composed by Terry Dillon\, and stars local talent Kelly Clifton as Judy Garland\,&nbsp\; Johnny Rodgers as Roger Stevens\, the up-and-coming singer-songwriter\, and Doug Jarecki as Carl Slovak\, the bartender.&nbsp\;<br />\n&nbsp\;<br />\n&nbsp\;<br />\nTICKETS:&nbsp\;$39 Regular | $34 Senior (60 &amp\; Older) | $34 Military Personnel (with ID) | $33 Group (10 or More) | $18 Youth (19 &amp\; Younger)</h5>\n
LOCATION:Oconomowoc Arts Center 641 E Forest St Oconomowoc \, WI 53066
UID:e.3562.5842
SEQUENCE:3
DTSTAMP:20260422T001000Z
URL:https://business.oconomowoc.org/events/details/i-can-go-on-singing-judy-garland-musical-09-20-2025-5842
END:VEVENT

END:VCALENDAR
