BEGIN:VCALENDAR
VERSION:2.0
PRODID:-//ChamberMaster//Event Calendar 2.0//EN
METHOD:PUBLISH
X-PUBLISHED-TTL:P3D
REFRESH-INTERVAL:P3D
CALSCALE:GREGORIAN
BEGIN:VEVENT
DTSTART:20251202T140000Z
DTEND:20251202T180000Z
X-MICROSOFT-CDO-ALLDAYEVENT:FALSE
SUMMARY:Identifying and Understanding Waste in Processes
DESCRIPTION:You can likely identify some level of waste in all activities. Recognizing and understanding that waste\, so that action can be taken to reduce or eliminate it is essential to becoming a Lean organization.\n\n\n	Identify and define the 8 Wastes.\n	Learn the 5S model and how to implement to drive maximum efficiency and productivity.
X-ALT-DESC;FMTTYPE=text/html:<p>You can likely identify some level of waste in all activities. Recognizing and understanding that waste\, so that action can be taken to reduce or eliminate it is essential to becoming a Lean organization.</p>\n\n<ul>\n	<li>Identify and define the 8 Wastes.</li>\n	<li>Learn the 5S model and how to implement to drive maximum efficiency and productivity.</li>\n</ul>\n
LOCATION:WCTC | Corporate Training Center 800 Main St\, Building Q Pewaukee\, WI 53072
UID:e.3562.6605
SEQUENCE:3
DTSTAMP:20260421T181542Z
URL:https://business.oconomowoc.org/events/details/identifying-and-understanding-waste-in-processes-12-02-2025-6605
END:VEVENT

END:VCALENDAR
