BEGIN:VCALENDAR
VERSION:2.0
PRODID:-//ChamberMaster//Event Calendar 2.0//EN
METHOD:PUBLISH
X-PUBLISHED-TTL:P3D
REFRESH-INTERVAL:P3D
CALSCALE:GREGORIAN
BEGIN:VEVENT
DTSTART:20330430T140000Z
DTEND:20330430T220000Z
X-MICROSOFT-CDO-ALLDAYEVENT:FALSE
SUMMARY:Independent Bookstore Day!
DESCRIPTION:It's Independent Bookstore Day - a day of celebration! Indie bookstores all over the country celebrate on the last Saturday in April every year. We celebrate books\, bookstores\, reading\, readers\, booksellers\, authors\, and the literary loving community! It's an exciting day filled with bookish fun\, giveaways\, surprises\, and exclusive merch! We are so happy we can celebrate with you in store!
X-ALT-DESC;FMTTYPE=text/html:<span style="color:rgb(64\, 64\, 64)\; font-family:quicksand\,arial\,helvetica\,sans-serif\; font-size:18px">It&#39\;s <a href="https://booksco.com/event/2026-04-25/independent-bookstore-day">Independent Bookstore Day</a> - a day of celebration! Indie bookstores all over the country celebrate on the last Saturday in April every year. We celebrate books\, bookstores\, reading\, readers\, booksellers\, authors\, and the literary loving&nbsp\;community! It&#39\;s an exciting day filled with bookish fun\, giveaways\, surprises\, and exclusive merch!&nbsp\;We are so happy we can celebrate with you in store!&nbsp\;</span>
LOCATION:Books & Company 1039 Summit Ave. Oconomowoc\, WI 53066
UID:e.3562.6874
SEQUENCE:3
DTSTAMP:20260421T185023Z
URL:https://business.oconomowoc.org/events/details/independent-bookstore-day-04-30-2033-6874
END:VEVENT

END:VCALENDAR
