BEGIN:VCALENDAR
VERSION:2.0
PRODID:-//ChamberMaster//Event Calendar 2.0//EN
METHOD:PUBLISH
X-PUBLISHED-TTL:P3D
REFRESH-INTERVAL:P3D
CALSCALE:GREGORIAN
BEGIN:VEVENT
DTSTART:20220908T230000Z
DTEND:20220909T000000Z
X-MICROSOFT-CDO-ALLDAYEVENT:FALSE
SUMMARY:Insurance for Different Stages of Life
DESCRIPTION:There are no guarantees in life but including life insurance as part of your financial plan can bring you peace of mind\, reassuring you that your loved ones will be provided for financially if something happens to you. By attending this free seminar\, you'll get an overview of different life insurance options\, and how they can be applied at different stages of life. \n\n\n\nTo register please visit https://www.summitstreetwm.com/events.htm
X-ALT-DESC;FMTTYPE=text/html:<span style="font-family:proximanova\; font-size:16px">There are no guarantees in life but including life insurance as part of your financial plan can bring you peace of mind\, reassuring you that your loved ones will be provided for financially if something happens to you. By attending this free seminar\, you&rsquo\;ll get an overview of different life insurance options\, and how they can be applied at different stages of life.&nbsp\;</span><br />\n<br />\n<span style="color:rgb(68\, 68\, 68)\; font-family:proximanova\; font-size:16px">To register please visit&nbsp\;</span><a href="https://www.summitstreetwm.com/events.htm" style="box-sizing: border-box\; color: rgb(34\, 72\, 132)\; text-decoration-line: none\; box-shadow: none\; overflow-wrap: break-word\; font-family: Arial\, Helvetica\, sans-serif\; font-size: 16px\;">https://www.summitstreetwm.com/events.htm</a>
LOCATION:Join us either in person or virtually.
UID:e.3562.2243
SEQUENCE:3
DTSTAMP:20260419T184459Z
URL:https://business.oconomowoc.org/events/details/insurance-for-different-stages-of-life-2243
END:VEVENT

END:VCALENDAR
