BEGIN:VCALENDAR
VERSION:2.0
PRODID:-//ChamberMaster//Event Calendar 2.0//EN
METHOD:PUBLISH
X-PUBLISHED-TTL:P3D
REFRESH-INTERVAL:P3D
CALSCALE:GREGORIAN
BEGIN:VEVENT
DTSTART:20260328T180000Z
DTEND:20260328T193000Z
X-MICROSOFT-CDO-ALLDAYEVENT:FALSE
SUMMARY:Kid's Easter Carnival Crawl
DESCRIPTION:Kids Easter Carnival Crawl!\n\nFree candy\, games\, prizes and treats!
X-ALT-DESC;FMTTYPE=text/html:<strong>Kids Easter Carnival Crawl!</strong><br />\nFree candy\, games\, prizes and treats!<br />\n<br />\n&nbsp\;
LOCATION:Bridge Church 818 E. Wisconsin Avenue Oconomowoc\, WI 53066
UID:e.3562.6818
SEQUENCE:3
DTSTAMP:20260421T140645Z
URL:https://business.oconomowoc.org/events/details/kid-s-easter-carnival-crawl-6818
END:VEVENT

END:VCALENDAR
