BEGIN:VCALENDAR
VERSION:2.0
PRODID:-//ChamberMaster//Event Calendar 2.0//EN
METHOD:PUBLISH
X-PUBLISHED-TTL:P3D
REFRESH-INTERVAL:P3D
CALSCALE:GREGORIAN
BEGIN:VEVENT
DTSTART:20260625T210000Z
DTEND:20260626T003000Z
X-MICROSOFT-CDO-ALLDAYEVENT:FALSE
SUMMARY:Ladies Golf Outing
DESCRIPTION:Grab your clubs and your fiesta spirit for our Nine & Dine Ladies Golf Event\n\nEnjoy a fun\, relaxed nine holes filled with friendly competition\, great company\, and plent of fun along the course. After golf\, keep the party going with tacos\, margaritas\, and plenty of time to connect and celebrate together.\n\nNot a golfer? No problem! Join us for the Sip & Social after the round   come mix\, mingle\, and enjoy margaritas and tacoswith this fantastic group of ladies.\n\n\n\nSponsorships Available! Email Sara Ninmann at events@oconomowoc.org
X-ALT-DESC;FMTTYPE=text/html:<p data-end="94" data-start="0"><span style="font-size:18px\;">Grab your clubs and your fiesta spirit for our <b>Nine &amp\; Dine Ladies Golf Event</b></span></p>\n\n<p data-end="337" data-start="96"><span style="font-size:18px\;">Enjoy a fun\, relaxed nine holes filled with friendly competition\, great company\, and plent of fun along the course. After golf\, keep the party going with tacos\, margaritas\, and plenty of time to connect and celebrate together.</span></p>\n\n<p data-end="508" data-is-last-node="" data-is-only-node="" data-start="339"><span style="font-size:18px\;">Not a golfer? No problem! Join us for the <strong data-end="397" data-start="381">Sip &amp\; Social</strong> after the round &mdash\; come mix\, mingle\, and enjoy&nbsp\;margaritas and tacoswith this fantastic group of ladies.<br />\n<br />\nSponsorships Available! Email Sara Ninmann at events@oconomowoc.org</span></p>\n
LOCATION:The Club at Lac La Belle 6996 Pennsylvania Street Oconomowoc\, WI 53066
UID:e.3562.6810
SEQUENCE:3
DTSTAMP:20260421T153433Z
URL:https://business.oconomowoc.org/events/details/ladies-golf-outing-6810
END:VEVENT

END:VCALENDAR
