BEGIN:VCALENDAR
VERSION:2.0
PRODID:-//ChamberMaster//Event Calendar 2.0//EN
METHOD:PUBLISH
X-PUBLISHED-TTL:P3D
REFRESH-INTERVAL:P3D
CALSCALE:GREGORIAN
BEGIN:VEVENT
DTSTART:20220407T220000Z
DTEND:20220408T010000Z
X-MICROSOFT-CDO-ALLDAYEVENT:FALSE
SUMMARY:Ladies Night Out
DESCRIPTION:Sip\, shop and stroll during Ladies Night with in-store specials\, cocktails and mocktails in Downtown Oconomowoc.
X-ALT-DESC;FMTTYPE=text/html:<span style="font-size:14px\;"><span style="font-family:verdana\;">Sip\, shop and stroll during Ladies Night with in-store specials\, cocktails and mocktails in Downtown Oconomowoc.</span></span>
LOCATION:Downtown Oconomowoc
UID:e.3562.2245
SEQUENCE:3
DTSTAMP:20260419T213804Z
URL:https://business.oconomowoc.org/events/details/ladies-night-out-2245
END:VEVENT

END:VCALENDAR
